BEGIN:VCALENDAR
VERSION:2.0
PRODID:-//AWO Hemsbach eV - ECPv6.15.20//NONSGML v1.0//EN
CALSCALE:GREGORIAN
METHOD:PUBLISH
X-ORIGINAL-URL:https://awo-hemsbach.de
X-WR-CALDESC:Veranstaltungen für AWO Hemsbach eV
REFRESH-INTERVAL;VALUE=DURATION:PT1H
X-Robots-Tag:noindex
X-PUBLISHED-TTL:PT1H
BEGIN:VTIMEZONE
TZID:Europe/Berlin
BEGIN:DAYLIGHT
TZOFFSETFROM:+0100
TZOFFSETTO:+0200
TZNAME:CEST
DTSTART:20250330T010000
END:DAYLIGHT
BEGIN:STANDARD
TZOFFSETFROM:+0200
TZOFFSETTO:+0100
TZNAME:CET
DTSTART:20251026T010000
END:STANDARD
BEGIN:DAYLIGHT
TZOFFSETFROM:+0100
TZOFFSETTO:+0200
TZNAME:CEST
DTSTART:20260329T010000
END:DAYLIGHT
BEGIN:STANDARD
TZOFFSETFROM:+0200
TZOFFSETTO:+0100
TZNAME:CET
DTSTART:20261025T010000
END:STANDARD
BEGIN:DAYLIGHT
TZOFFSETFROM:+0100
TZOFFSETTO:+0200
TZNAME:CEST
DTSTART:20270328T010000
END:DAYLIGHT
BEGIN:STANDARD
TZOFFSETFROM:+0200
TZOFFSETTO:+0100
TZNAME:CET
DTSTART:20271031T010000
END:STANDARD
END:VTIMEZONE
BEGIN:VEVENT
DTSTART;TZID=Europe/Berlin:20260419T150000
DTEND;TZID=Europe/Berlin:20260419T170000
DTSTAMP:20260421T112212
CREATED:20230917T071332Z
LAST-MODIFIED:20260416T164610Z
UID:1060-1776610800-1776618000@awo-hemsbach.de
SUMMARY:Seniorennachmittag - im Pater-Delp-Gemeindehaus - abgesagt
DESCRIPTION:Leider muss der Seniorennachmittag aus organisatorischen Gründen abgesagt werden. \nBei Kaffee und Kuchen …. Das Programm wird zu Beginn des Jahres 2026 bekannt gegeben. Der Gospelchor der Germania wird das Publikum unterhalten. Bitte wie immer ein Kaffeegedeck mitbringen. \n 
URL:https://awo-hemsbach.de/events/seniorennachmittag/
LOCATION:Pater Delp Gemeindezentrum\, Gottlieb-Daimler Straße 2\, Hemsbach\, 69502
CATEGORIES:Information,Spass
ORGANIZER;CN="AWO Ortsverein Hemsbach e.V.":MAILTO:woermann-wiese@online.de
END:VEVENT
END:VCALENDAR