BEGIN:VCALENDAR
VERSION:2.0
PRODID:-//AWO Hemsbach eV - ECPv6.15.20//NONSGML v1.0//EN
CALSCALE:GREGORIAN
METHOD:PUBLISH
X-ORIGINAL-URL:https://awo-hemsbach.de
X-WR-CALDESC:Veranstaltungen für AWO Hemsbach eV
REFRESH-INTERVAL;VALUE=DURATION:PT1H
X-Robots-Tag:noindex
X-PUBLISHED-TTL:PT1H
BEGIN:VTIMEZONE
TZID:Europe/Berlin
BEGIN:DAYLIGHT
TZOFFSETFROM:+0100
TZOFFSETTO:+0200
TZNAME:CEST
DTSTART:20250330T010000
END:DAYLIGHT
BEGIN:STANDARD
TZOFFSETFROM:+0200
TZOFFSETTO:+0100
TZNAME:CET
DTSTART:20251026T010000
END:STANDARD
BEGIN:DAYLIGHT
TZOFFSETFROM:+0100
TZOFFSETTO:+0200
TZNAME:CEST
DTSTART:20260329T010000
END:DAYLIGHT
BEGIN:STANDARD
TZOFFSETFROM:+0200
TZOFFSETTO:+0100
TZNAME:CET
DTSTART:20261025T010000
END:STANDARD
BEGIN:DAYLIGHT
TZOFFSETFROM:+0100
TZOFFSETTO:+0200
TZNAME:CEST
DTSTART:20270328T010000
END:DAYLIGHT
BEGIN:STANDARD
TZOFFSETFROM:+0200
TZOFFSETTO:+0100
TZNAME:CET
DTSTART:20271031T010000
END:STANDARD
BEGIN:DAYLIGHT
TZOFFSETFROM:+0100
TZOFFSETTO:+0200
TZNAME:CEST
DTSTART:20280326T010000
END:DAYLIGHT
BEGIN:STANDARD
TZOFFSETFROM:+0200
TZOFFSETTO:+0100
TZNAME:CET
DTSTART:20281029T010000
END:STANDARD
END:VTIMEZONE
BEGIN:VEVENT
DTSTART;TZID=Europe/Berlin:20261105T100000
DTEND;TZID=Europe/Berlin:20261105T120000
DTSTAMP:20260421T113908
CREATED:20230324T144453Z
LAST-MODIFIED:20260308T150354Z
UID:778-1793872800-1793880000@awo-hemsbach.de
SUMMARY:Technik-Sprechstunde: Wie kann ich digitale Fotos / Videos mit dem Smartphone aufnehmen?
DESCRIPTION:Dieser Kurzvortrag zeigt\, wie Sie Fotos mit dem Smartphone aufnehmen\, wie Sie von Fotoaufnahme zu Videoaufnahme umschalten und wo die Fotos/Videos auf dem Smartphone automatisch gespeichert werden. Welche Rolle spielen dabei Bildgröße und verfügbares Datenvolumen des Speichers? Diese Fragen rund um das Fotografieren mit dem Smartphone werden in der Sprechstunde geklärt.
URL:https://awo-hemsbach.de/events/technik-sprechstunde-wie-kann-ich-digitale-fotos-videos-mit-dem-smartphone-aufnehmen/
LOCATION:Multifunktionsraum\, Schlossgasse 39\, Hemsbach\, 69502
CATEGORIES:Information,Spass
ATTACH;FMTTYPE=image/jpeg:https://awo-hemsbach.de/wp-content/uploads/2023/03/Foto_App.jpg
END:VEVENT
BEGIN:VEVENT
DTSTART;TZID=Europe/Berlin:20261112T100000
DTEND;TZID=Europe/Berlin:20261112T120000
DTSTAMP:20260421T113908
CREATED:20230324T144636Z
LAST-MODIFIED:20260402T124400Z
UID:780-1794477600-1794484800@awo-hemsbach.de
SUMMARY:Technik-Sprechstunde: Wie richte ich ein Fotoalbum auf dem Smartphone ein?
DESCRIPTION:Dieser Kurzvortrag zeigt\, wie Sie ein Fotoalbum auf dem Smartphone einrichten\, Bilder auf einem externen Speichermedium oder in der Cloud sichern können. Hierfür wird die Foto-App von Google genutzt.
URL:https://awo-hemsbach.de/events/technik-sprechstunde-wie-richte-ich-ein-fotoalbum-auf-dem-smartphone-ein/
LOCATION:Multifunktionsraum\, Schlossgasse 39\, Hemsbach\, 69502
CATEGORIES:Information
END:VEVENT
BEGIN:VEVENT
DTSTART;TZID=Europe/Berlin:20261119T100000
DTEND;TZID=Europe/Berlin:20261119T120000
DTSTAMP:20260421T113908
CREATED:20231229T074529Z
LAST-MODIFIED:20260402T124537Z
UID:1160-1795082400-1795089600@awo-hemsbach.de
SUMMARY:Technik-Sprechstunde: Welche Bearbeitungsmöglichkeiten von Fotos bietet ein Smartphone
DESCRIPTION:Dieser Kurzvortrag zeigt die gebräuchlichsten Bearbeitungsmöglichkeiten von Fotos am Beispiel eines Samsung-Smartphones. Welche Unterschiede gibt es zu professionellen Bearbeitungsmöglichkeiten auf einem Computer. Was bieten kostenlose Werkzeuge an und wann ist es sinnvoll\, sich die kostenpflichtige Software zu beschaffen?
URL:https://awo-hemsbach.de/events/technik-sprechstunde-welche-bearbeitungsmoeglichkeiten-von-fotos-bietet-ein-smartphone/
LOCATION:Multifunktionsraum\, Schlossgasse 39\, Hemsbach\, 69502
CATEGORIES:Information
END:VEVENT
BEGIN:VEVENT
DTSTART;TZID=Europe/Berlin:20261126T100000
DTEND;TZID=Europe/Berlin:20261126T120000
DTSTAMP:20260421T113908
CREATED:20250104T162930Z
LAST-MODIFIED:20260402T124714Z
UID:1515-1795687200-1795694400@awo-hemsbach.de
SUMMARY:Technik-Sprechstunde - Wie lese ich einen QR-Code ein?
DESCRIPTION:In einem QR-Code können bis zu 7.089 Ziffern oder 4.296 Zeichen\, einschließlich Satz- und Sonderzeichen\, gespeichert werden. Somit kann jeder Code nicht nur einzelne Wörter\, sondern auch längere Ausdrücke wie Internet-Adressen verschlüsseln. Dieser Kurzvortrag zeigt\, wie ein QR-Code eingelesen wird und worauf geachtet werden sollte\, denn nicht immer ist im QR-Code die Information verschlüsselt\, die erwartet wird.\nIm Anschluss an den Vortrag nehmen sich Werner Schuster und Elke Wörmann-Wiese Zeit für Ihre Fragen rund um Smartphone\, Tablet und PC.
URL:https://awo-hemsbach.de/events/technik-sprechstunde-wie-lese-ich-einen-qr-code-ein/
LOCATION:Multifunktionsraum\, Schlossgasse 39\, Hemsbach\, 69502
CATEGORIES:Information,Vortrag
END:VEVENT
BEGIN:VEVENT
DTSTART;TZID=Europe/Berlin:20261210T100000
DTEND;TZID=Europe/Berlin:20261210T120000
DTSTAMP:20260421T113908
CREATED:20250104T163151Z
LAST-MODIFIED:20260416T165044Z
UID:1517-1796896800-1796904000@awo-hemsbach.de
SUMMARY:Technik-Sprechstunde - Wie zeige ich das eRezept im Smartphone an?
DESCRIPTION:Das digitale Rezept wird verschlüsselt auf den zentralen E-Rezept-Server geschickt. Zu jedem E-Rezept wird automatisch ein sogenanntes E-Rezept-Token erstellt. Es enthält den Code\, den Sie zum Einlösen in der Apotheke brauchen.\nWer über ein Smartphone verfügt\, kann via App der Krankenkasse die verschriebenen Medikamente anzeigen lassen. Gezeigt wird das eRezept am Beispiel einer gesetzlichen Versicherung.\nIm Anschluss an den Vortrag nehmen sich Werner Schuster\, Peter Hymon und Elke Wörmann-Wiese Zeit für Ihre Fragen rund um Smartphone\, Tablet und PC.
URL:https://awo-hemsbach.de/events/technik-sprechstunde-wie-zeige-ich-das-erezept-im-smartphone-an/
CATEGORIES:Information,Vortrag
END:VEVENT
BEGIN:VEVENT
DTSTART;TZID=Europe/Berlin:20261210T100000
DTEND;TZID=Europe/Berlin:20261210T120000
DTSTAMP:20260421T113908
CREATED:20250104T163342Z
LAST-MODIFIED:20260416T165336Z
UID:1519-1796896800-1796904000@awo-hemsbach.de
SUMMARY:Technik-Sprechstunde - Wie zeige ich den Inhalt der elektronischen Patientenakte auf dem Smartphone an?
DESCRIPTION:Die elektronische Patientenakte (ePA) ist Ihr persönlicher\, digitaler und lebenslanger Aktenordner für Gesundheitsdaten. (Zahn)- Ärztinnen oder (Zahn)-Ärzte\, Krankenhäuser\, Physiotherapeut:innen und andere medizinische Einrichtungen stellen medizinische Unterlagen ein\, sofern Sie dem nicht widersprochen haben.\nAuch Sie selbst können dort Gesundheitsdaten einspeichern. Die Akte wird automatisch angelegt. Die Daten sind auf den Servern der Aktenanbieter gespeichert. Ab Ende Februar 2025 können Sie auf Ihre ePA zugreifen. Möchten Sie die Daten selbst einsehen\, benötigen Sie für den Zugang auf Ihre Daten die jeweilige APP Ihrer Krankenkasse. Der Kurzvortrag zeigt\, welche Voraussetzung Ihr Smartphone erfüllen muss\, um die APP zu nutzen\, wie Sie die APP Ihrer Krankenkasse auf Ihrem Smartphone installieren und mit Ihrer Karte verbinden.Im Anschluss an den Vortrag nehmen sich Werner Schuster und Elke Wörmann-Wiese Zeit für Ihre Fragen rund um Smartphone\, Tablet und PC.
URL:https://awo-hemsbach.de/events/technik-sprechstunde-wie-richte-ich-die-elektronische-patienten-akte-epa-ein/
CATEGORIES:Information,Vortrag
END:VEVENT
BEGIN:VEVENT
DTSTART;TZID=Europe/Berlin:20261210T120000
DTEND;TZID=Europe/Berlin:20261210T210000
DTSTAMP:20260421T113908
CREATED:20231210T100808Z
LAST-MODIFIED:20251226T132917Z
UID:1155-1796904000-1796936400@awo-hemsbach.de
SUMMARY:Fahrt zum Weihnachtsmarkt
DESCRIPTION:Anmeldungen bei Anneli Ankenbrand\, 7751 oder rechtsanwalt-ankenbrand@t-online.de. Die Anmeldungen sind verbindlich. Die Fahrtkosten (21 € für AWO-Mitglieder\, 24 € für Nicht-Mitglieder) bitte vorab auf das Konto der AWO Hemsbach e.V. bei der Sparkasse Rhein-Neckar-Nord IBAN: DE76 6705 0505 0068 0118 33 überweisen oder bar bei Anneli Ankenbrand abgeben. Bei Absage kann der Fahrpreis nicht erstattet werden\, Sie können aber einem anderen Gast Ihren Platz überlassen.\nDie Fahrten werden gemeinsam mit dem OV Laudenbach organisiert. Bei mehr als 50 Anmeldungen wird eine Warteliste geführt.
URL:https://awo-hemsbach.de/events/fahrt-zum-weihnachtsmarkt-nach-worms/
CATEGORIES:Fahrt,Spass
END:VEVENT
BEGIN:VEVENT
DTSTART;TZID=Europe/Berlin:20261217T100000
DTEND;TZID=Europe/Berlin:20261217T120000
DTSTAMP:20260421T113908
CREATED:20260308T151536Z
LAST-MODIFIED:20260416T165407Z
UID:1755-1797501600-1797508800@awo-hemsbach.de
SUMMARY:Technik-Sprechstunde - Medizinischer Notfall
DESCRIPTION:Neben Notfallkontakten können medizinisch relevante Informationen für die Erstversorgung im Smartphone hinterlegt werden. Der Rettungsdienst hat darauf Zugriff\, auch wenn der Bildschirm gesperrt ist. Wie Sie Vorsorge treffen können\, und wie der Rettungsdienst auf die Daten zugreift\, zeigt Paula Vondung (Notfallsanitäterin) in einem Kurzvortrag. Im Anschluss an den Vortrag nehmen sich Werner Schuster\, Peter Hymon und Elke Wörmann-Wiese Zeit für Ihre Fragen rund um Smartphone\, Tablet und PC.
URL:https://awo-hemsbach.de/events/technik-sprechstunde-medizinischer-notfall/
LOCATION:Multifunktionsraum\, Schlossgasse 39\, Hemsbach\, 69502
CATEGORIES:Information,Vortrag
END:VEVENT
BEGIN:VEVENT
DTSTART;TZID=Europe/Berlin:20270316T150000
DTEND;TZID=Europe/Berlin:20270316T170000
DTSTAMP:20260421T113908
CREATED:20240206T143343Z
LAST-MODIFIED:20260402T124508Z
UID:1248-1805209200-1805216400@awo-hemsbach.de
SUMMARY:Mitgliederversammlung
DESCRIPTION:Mitgliederversammlung des AWO Ortsvereins Hemsbach e.V.\nWas ist in 2026 passiert? Rechenschaftsberichte und Neuwahlen des Vorstands und Kassenprüfern sind die wesentlichen Programmpunkte.\nAußerdem werden die Termine und das Programm für 2027 vorgestellt.
URL:https://awo-hemsbach.de/events/mitgliederversammlung/
LOCATION:Bonhoeffer Gemeindezentrum\, Liegnitzer Straße 1\, Hemsbach\, 69502
CATEGORIES:Information,Versammlung
ORGANIZER;CN="AWO Ortsverein Hemsbach e.V.":MAILTO:woermann-wiese@online.de
END:VEVENT
BEGIN:VEVENT
DTSTART;TZID=Europe/Berlin:20270415T120000
DTEND;TZID=Europe/Berlin:20270415T200000
DTSTAMP:20260421T113908
CREATED:20230316T173947Z
LAST-MODIFIED:20260416T165117Z
UID:759-1807790400-1807819200@awo-hemsbach.de
SUMMARY:Fahrt nach Haibach\, Modemarkt Adler
DESCRIPTION:Anmeldungen bei Anneli Ankenbrand\, 7751 oder rechtsanwalt-ankenbrand@t-online.de. Die Anmeldungen sind verbindlich. Die Fahrtkosten (21 € für AWO-Mitglieder\, 24 € für Nicht-Mitglieder) bitte vorab auf das Konto der AWO Hemsbach e.V. bei der Sparkasse Rhein-Neckar-Nord IBAN: DE76 6705 0505 0068 0118 33 überweisen oder bar bei Anneli Ankenbrand abgeben. Bei Absage nach dem 07.04. kann der Fahrpreis nicht erstattet werden\, Sie können aber einem anderen Gast Ihren Platz überlassen.\nDie Fahrten werden gemeinsam mit dem OV Laudenbach organisiert. Bei mehr als 50 Anmeldungen wird eine Warteliste geführt.
URL:https://awo-hemsbach.de/events/fahrt-nach-deidesheim-zum-weihnachtsmarkt/
CATEGORIES:Fahrt,Spass
ORGANIZER;CN="AWO Ortsverein Hemsbach e.V.":MAILTO:woermann-wiese@online.de
END:VEVENT
END:VCALENDAR